BEGIN:VCALENDAR
VERSION:2.0
PRODID:-//wp-events-plugin.com//7.2.3.1//EN
TZID:Europe/Berlin
X-WR-TIMEZONE:Europe/Berlin
BEGIN:VEVENT
UID:13@sprengelhaus-wedding.de
DTSTART;TZID=Europe/Berlin:20251207T190000
DTEND;TZID=Europe/Berlin:20251207T190000
DTSTAMP:20251204T164356Z
URL:https://sprengelhaus-wedding.de/events/chor-canto-rubato-5-musikalisch
 er-adventsabend-in-der-osterkirche/
SUMMARY:Chor Canto Rubato\, 5. Musikalischer Adventsabend in der Osterkirch
 e
DESCRIPTION:Chor Canto Rubato\, 5. Musikalischer Adventsabend in der Osterk
 irche\, Samoastr. 14\,\n\nZugang auch mit Rollstuhl
CATEGORIES:LebendigerAdventskalender
LOCATION:Osterkirche\, Samoastraße 14\, Berlin\, 13353\, Deutschland
X-APPLE-STRUCTURED-LOCATION;VALUE=URI;X-ADDRESS=Samoastraße 14\, Berlin\, 
 13353\, Deutschland;X-APPLE-RADIUS=100;X-TITLE=Osterkirche:geo:0,0
END:VEVENT
BEGIN:VTIMEZONE
TZID:Europe/Berlin
X-LIC-LOCATION:Europe/Berlin
BEGIN:STANDARD
DTSTART:20251026T020000
TZOFFSETFROM:+0200
TZOFFSETTO:+0100
TZNAME:CET
END:STANDARD
END:VTIMEZONE
END:VCALENDAR