BEGIN:VCALENDAR
VERSION:2.0
PRODID:-//wp-events-plugin.com//7.2.3.1//EN
TZID:Europe/Berlin
X-WR-TIMEZONE:Europe/Berlin
BEGIN:VEVENT
UID:104@sprengelhaus-wedding.de
DTSTART;TZID=Europe/Berlin:20260919T110000
DTEND;TZID=Europe/Berlin:20260919T123000
DTSTAMP:20260306T121554Z
URL:https://sprengelhaus-wedding.de/events/cleanup-2/
SUMMARY:Cleanup
DESCRIPTION:Treffpunkt: vor dem Nachbarschaftsladen bei den Sitzmöbeln (Pa
 rklet)\nSamstags: 11-12:30 h\n\nMitzubringen ist nichts außer gute Laune
CATEGORIES:Saubere Sache
END:VEVENT
BEGIN:VTIMEZONE
TZID:Europe/Berlin
X-LIC-LOCATION:Europe/Berlin
BEGIN:DAYLIGHT
DTSTART:20260329T030000
TZOFFSETFROM:+0100
TZOFFSETTO:+0200
TZNAME:CEST
END:DAYLIGHT
END:VTIMEZONE
END:VCALENDAR