BEGIN:VCALENDAR
VERSION:2.0
PRODID:-//wp-events-plugin.com//7.2.3.1//EN
TZID:Europe/Berlin
X-WR-TIMEZONE:Europe/Berlin
BEGIN:VEVENT
UID:75@sprengelhaus-wedding.de
DTSTART;TZID=Europe/Berlin:20260314T110000
DTEND;TZID=Europe/Berlin:20261212T123000
DTSTAMP:20260306T160430Z
URL:https://sprengelhaus-wedding.de/events/cleanup/
SUMMARY:Cleanup
DESCRIPTION:Treffpunkt: vor dem Nachbarschaftsladen bei den Sitzmöbeln (Pa
 rklet)\nSamstags: 11-12:30 h\n\nMitzubringen ist nichts außer gute Laune
CATEGORIES:Saubere Sache
LOCATION:Nachbarschaftsladen\, Sprengelstraße 15\, Berlin\, 13353\, Deutsc
 hland
X-APPLE-STRUCTURED-LOCATION;VALUE=URI;X-ADDRESS=Sprengelstraße 15\, Berlin
 \, 13353\, Deutschland;X-APPLE-RADIUS=100;X-TITLE=Nachbarschaftsladen:geo:
 0,0
END:VEVENT
BEGIN:VTIMEZONE
TZID:Europe/Berlin
X-LIC-LOCATION:Europe/Berlin
BEGIN:STANDARD
DTSTART:20251026T020000
TZOFFSETFROM:+0200
TZOFFSETTO:+0100
TZNAME:CET
END:STANDARD
BEGIN:DAYLIGHT
DTSTART:20260329T030000
TZOFFSETFROM:+0100
TZOFFSETTO:+0200
TZNAME:CEST
END:DAYLIGHT
BEGIN:STANDARD
DTSTART:20261025T020000
TZOFFSETFROM:+0200
TZOFFSETTO:+0100
TZNAME:CET
END:STANDARD
END:VTIMEZONE
END:VCALENDAR