BEGIN:VCALENDAR
VERSION:2.0
PRODID:-//wp-events-plugin.com//7.2.3.1//EN
TZID:Europe/Berlin
X-WR-TIMEZONE:Europe/Berlin
BEGIN:VEVENT
UID:40@sprengelhaus-wedding.de
DTSTART;TZID=Europe/Berlin:20251224T153000
DTEND;TZID=Europe/Berlin:20251224T153000
DTSTAMP:20251204T231050Z
URL:https://sprengelhaus-wedding.de/events/familienandacht-mit-krippenspie
 l-in-der-st-joseph-kirche/
SUMMARY:Familienandacht mit Krippenspiel in der St. Joseph Kirche
DESCRIPTION:Familienandacht mit Krippenspiel in der St. Joseph Kirche in de
 r Müllerstr. 161
CATEGORIES:LebendigerAdventskalender
LOCATION:St. Joseph Kirche\, Müllerstraße 161\, Berlin\, 13353\, Deutschl
 and
X-APPLE-STRUCTURED-LOCATION;VALUE=URI;X-ADDRESS=Müllerstraße 161\, Berlin
 \, 13353\, Deutschland;X-APPLE-RADIUS=100;X-TITLE=St. Joseph Kirche:geo:0,
 0
END:VEVENT
BEGIN:VTIMEZONE
TZID:Europe/Berlin
X-LIC-LOCATION:Europe/Berlin
BEGIN:STANDARD
DTSTART:20251026T020000
TZOFFSETFROM:+0200
TZOFFSETTO:+0100
TZNAME:CET
END:STANDARD
END:VTIMEZONE
END:VCALENDAR