BEGIN:VCALENDAR
VERSION:2.0
PRODID:-//wp-events-plugin.com//7.2.3.1//EN
TZID:Europe/Berlin
X-WR-TIMEZONE:Europe/Berlin
BEGIN:VEVENT
UID:39@sprengelhaus-wedding.de
DTSTART;TZID=Europe/Berlin:20251224T150000
DTEND;TZID=Europe/Berlin:20251224T150000
DTSTAMP:20251204T231115Z
URL:https://sprengelhaus-wedding.de/events/familienfreundliche-christvespe
 r-der-baptistengemeinde/
SUMMARY:Familienfreundliche Christvesper der Baptistengemeinde
DESCRIPTION:Familienfreundliche Christvesper der Baptistengemeinde in der M
 üllerstr. 14a\, Zugang auch mit Rollstuhl
CATEGORIES:LebendigerAdventskalender
LOCATION:Baptistengemeinde\, Müllerstr. 14a\, Berlin\, 13353\, Deutschland
X-APPLE-STRUCTURED-LOCATION;VALUE=URI;X-ADDRESS=Müllerstr. 14a\, Berlin\, 
 13353\, Deutschland;X-APPLE-RADIUS=100;X-TITLE=Baptistengemeinde:geo:0,0
END:VEVENT
BEGIN:VTIMEZONE
TZID:Europe/Berlin
X-LIC-LOCATION:Europe/Berlin
BEGIN:STANDARD
DTSTART:20251026T020000
TZOFFSETFROM:+0200
TZOFFSETTO:+0100
TZNAME:CET
END:STANDARD
END:VTIMEZONE
END:VCALENDAR