BEGIN:VCALENDAR
VERSION:2.0
PRODID:-//wp-events-plugin.com//7.2.3.1//EN
TZID:Europe/Berlin
X-WR-TIMEZONE:Europe/Berlin
BEGIN:VEVENT
UID:117@sprengelhaus-wedding.de
DTSTART;TZID=Europe/Berlin:20260310T190000
DTEND;TZID=Europe/Berlin:20260310T190000
DTSTAMP:20260306T192810Z
URL:https://sprengelhaus-wedding.de/events/klima-kiez-offener-treff/
SUMMARY:Klima & Kiez - Offener Treff
DESCRIPTION:Die ersten Schneeglöckchen sind zu sehen und bei uns geht es m
 it unserem Offenen Treff wieder los. Wir treffen uns am Dienstag\, dem 10.
 03.\, um 19 Uhr im Nachbarschaftsladen (Sprengelstraße 15).\n \nWenn du e
 ine Idee hast\, aber noch Leute suchst\, oder wenn du dich an konkreten Pr
 ojekten im Kiez engagieren möchtest\, dann ist dieses Treffen genau das R
 ichtige für dich. Egal ob du es AG\, Netzwerk oder Plattform nennst. Wich
 tig ist\, dass wir zusammenkommen und uns austauschen.\n \nTagesordnung:\n
 Wilkommen\nFebruar Planungstreffen - Nächste Schritte\nBaumentscheid\nMod
 ellprojekt Nordufer\nVerschiedenes\nFreu mich auf alle!
CATEGORIES:Klima &amp; Kiez
LOCATION:Nachbarschaftsladen\, Sprengelstraße 15\, Berlin\, 13353\, Deutsc
 hland
X-APPLE-STRUCTURED-LOCATION;VALUE=URI;X-ADDRESS=Sprengelstraße 15\, Berlin
 \, 13353\, Deutschland;X-APPLE-RADIUS=100;X-TITLE=Nachbarschaftsladen:geo:
 0,0
END:VEVENT
BEGIN:VTIMEZONE
TZID:Europe/Berlin
X-LIC-LOCATION:Europe/Berlin
BEGIN:STANDARD
DTSTART:20251026T020000
TZOFFSETFROM:+0200
TZOFFSETTO:+0100
TZNAME:CET
END:STANDARD
END:VTIMEZONE
END:VCALENDAR