BEGIN:VCALENDAR
VERSION:2.0
PRODID:-//wp-events-plugin.com//7.2.3.1//EN
TZID:Europe/Berlin
X-WR-TIMEZONE:Europe/Berlin
BEGIN:VEVENT
UID:245@sprengelhaus-wedding.de
DTSTART;TZID=Europe/Berlin:20260330T180000
DTEND;TZID=Europe/Berlin:20261228T200000
DTSTAMP:20260419T131339Z
URL:https://sprengelhaus-wedding.de/events/kung-fu-wushu/
SUMMARY:Kung Fu Wushu
DESCRIPTION:Kung Fu Wushu im Sprengelhaus\n\nJeden Montag von 18.00 bis 20.
 00 Uhr\; Jeden Freitag von 18.00 bis 20.00 Uhr\n\nDer Wushu Meister André
  Tatchum bietet umfassendes Training in der chinesischen Kampfkunst Kungfu
  Wushu an. Dies ist die Sammelbezeichnung für alle Kampfkünste aus China
 \, die hierzulandemeist einfach als Kung Fu bezeichnet werden. In folgende
 n Disziplinen können Sie zurzeit ausgebildet werden: Tan Tui (Traditionel
 ler Stil)\, Chan Chuan\, Nan Chuan und Tai Chi Chuan (Yang Form).\n\nDiese
  Kampfkunst ist ein hervorragendes Mittel für die Entwicklung der Persön
 lichkeit\, zur Förderung der Gesundheit sowie für seelischen Ausgleich. 
 Das Training eignet sich für Menschen unterschiedlichsten Alters und Ansp
 ruchs. Der Kurs richtet sich sowohl an diejenigen\, die Standhaftigkeit un
 dGesundheit wertschätzen\, als auch an Personen\, die Wettkampftraining m
 achen möchten.\n\nIm Jahr 2021 hat der Wushu Meister André Tatchum den V
 erein Wushu Energetische Künste e.V. ins Leben gerufen.\n\nDie Leistungsb
 ereichedes WEK e.V. sind\n\n 	Klassischer Wushu-Unterricht undTeilnahme an
  Wettkämpfen der Deutschen Wushu Federation\n 	Der gezielte Einsatz von W
 ushu zur Förderung der Gesundheit. Hier spielen Qi Gong und Tai Chi eine 
 besondere Rolle.\n 	Interkulturelle Aktivitäten für ein besseres Kennenl
 ernen der chinesischenKultur.\n\nKontakt:           André Tatchu
 m\n\nTel:                      030 234 674 26 oder 015
 773753870\n\nE-Mail:               atatchum@yahoo.fr\n\nInternet:
            www.wushuenk.org\n\nKosten:              
 nach Vereinbarung
LOCATION:Sprengelhaus Wedding\, Gymnastikhalle (Hinterhaus\, Erdgeschoss)\,
  Sprengelstr. 15\, Berlin\, 13353\, Deutschland
X-APPLE-STRUCTURED-LOCATION;VALUE=URI;X-ADDRESS=Sprengelstr. 15\, Berlin\, 
 13353\, Deutschland;X-APPLE-RADIUS=100;X-TITLE=Sprengelhaus Wedding\, Gymn
 astikhalle (Hinterhaus\, Erdgeschoss):geo:0,0
END:VEVENT
BEGIN:VTIMEZONE
TZID:Europe/Berlin
X-LIC-LOCATION:Europe/Berlin
BEGIN:DAYLIGHT
DTSTART:20260329T030000
TZOFFSETFROM:+0100
TZOFFSETTO:+0200
TZNAME:CEST
END:DAYLIGHT
BEGIN:STANDARD
DTSTART:20261025T020000
TZOFFSETFROM:+0200
TZOFFSETTO:+0100
TZNAME:CET
END:STANDARD
END:VTIMEZONE
END:VCALENDAR