BEGIN:VCALENDAR
VERSION:2.0
PRODID:-//wp-events-plugin.com//7.2.3.1//EN
TZID:Europe/Berlin
X-WR-TIMEZONE:Europe/Berlin
BEGIN:VEVENT
UID:22@sprengelhaus-wedding.de
DTSTART;TZID=Europe/Berlin:20251213T140000
DTEND;TZID=Europe/Berlin:20251213T170000
DTSTAMP:20251204T222340Z
URL:https://sprengelhaus-wedding.de/events/upcycling-und-basteln-im-nachba
 rschaftsladen/
SUMMARY:Upcycling und Basteln im Nachbarschaftsladen
DESCRIPTION:Upcycling und Basteln im Nachbarschaftsladen\, Sprengelstr. 15\
 , Zugang auch mit Rollstuhl
CATEGORIES:LebendigerAdventskalender
LOCATION:Nachbarschaftsladen\, Sprengelstraße 15\, Berlin\, 13353\, Deutsc
 hland
X-APPLE-STRUCTURED-LOCATION;VALUE=URI;X-ADDRESS=Sprengelstraße 15\, Berlin
 \, 13353\, Deutschland;X-APPLE-RADIUS=100;X-TITLE=Nachbarschaftsladen:geo:
 0,0
END:VEVENT
BEGIN:VTIMEZONE
TZID:Europe/Berlin
X-LIC-LOCATION:Europe/Berlin
BEGIN:STANDARD
DTSTART:20251026T020000
TZOFFSETFROM:+0200
TZOFFSETTO:+0100
TZNAME:CET
END:STANDARD
END:VTIMEZONE
END:VCALENDAR